Package: CytoML Version: 2.20.0 Command: /home/biocbuild/bbs-3.21-bioc/R/bin/R CMD INSTALL CytoML StartedAt: 2025-10-15 15:32:56 -0400 (Wed, 15 Oct 2025) EndedAt: 2025-10-15 15:33:54 -0400 (Wed, 15 Oct 2025) EllapsedTime: 58.1 seconds RetCode: 0 Status: OK