Package: CytoML Version: 2.20.0 Command: /Library/Frameworks/R.framework/Resources/bin/R CMD INSTALL CytoML StartedAt: 2025-10-13 16:01:18 -0400 (Mon, 13 Oct 2025) EndedAt: 2025-10-13 16:03:21 -0400 (Mon, 13 Oct 2025) EllapsedTime: 123.1 seconds RetCode: 0 Status: OK