Package: CytoML Version: 2.20.0 Command: /home/biocbuild/R/R/bin/R CMD INSTALL CytoML StartedAt: 2025-10-13 20:48:46 -0000 (Mon, 13 Oct 2025) EndedAt: 2025-10-13 20:50:14 -0000 (Mon, 13 Oct 2025) EllapsedTime: 87.2 seconds RetCode: 0 Status: OK