Package: CytoML Version: 2.20.0 Command: /home/biocbuild/R/R/bin/R CMD build --keep-empty-dirs --no-resave-data CytoML StartedAt: 2025-10-14 00:03:39 -0000 (Tue, 14 Oct 2025) EndedAt: 2025-10-14 00:05:55 -0000 (Tue, 14 Oct 2025) EllapsedTime: 135.0 seconds RetCode: 0 Status: OK PackageFile: CytoML_2.20.0.tar.gz PackageFileSize: 8.122 MiB