Package: CytoML Version: 2.20.0 Command: /Library/Frameworks/R.framework/Resources/bin/R CMD build --keep-empty-dirs --no-resave-data CytoML StartedAt: 2025-10-13 22:29:47 -0400 (Mon, 13 Oct 2025) EndedAt: 2025-10-13 22:31:28 -0400 (Mon, 13 Oct 2025) EllapsedTime: 101.5 seconds RetCode: 0 Status: OK PackageFile: CytoML_2.20.0.tar.gz PackageFileSize: 8.564 MiB