Package: CytoML Version: 2.20.0 Command: rm -rf CytoML.buildbin-libdir && mkdir CytoML.buildbin-libdir && /Users/biocbuild/BBS/utils/build-universal.sh CytoML_2.20.0.tar.gz /Library/Frameworks/R.framework/Resources/bin/R CytoML.buildbin-libdir StartedAt: 2025-10-15 18:06:55 -0400 (Wed, 15 Oct 2025) EndedAt: 2025-10-15 18:08:08 -0400 (Wed, 15 Oct 2025) EllapsedTime: 72.8 seconds RetCode: 0 Status: OK PackageFile: CytoML_2.20.0.tgz PackageFileSize: 9.178 MiB