Package: CytoMDS Version: 1.4.0 Command: /home/biocbuild/R/R/bin/R CMD INSTALL CytoMDS StartedAt: 2025-10-13 20:49:12 -0000 (Mon, 13 Oct 2025) EndedAt: 2025-10-13 20:49:34 -0000 (Mon, 13 Oct 2025) EllapsedTime: 21.5 seconds RetCode: 0 Status: OK