Package: CytoMDS Version: 1.4.0 Command: /home/biocbuild/R/R/bin/R CMD build --keep-empty-dirs --no-resave-data CytoMDS StartedAt: 2025-10-14 00:03:02 -0000 (Tue, 14 Oct 2025) EndedAt: 2025-10-14 00:07:22 -0000 (Tue, 14 Oct 2025) EllapsedTime: 259.1 seconds RetCode: 0 Status: OK PackageFile: CytoMDS_1.4.0.tar.gz PackageFileSize: 4.877 MiB