Package: CytoMDS Version: 1.4.0 Command: /Library/Frameworks/R.framework/Resources/bin/R CMD INSTALL CytoMDS StartedAt: 2025-04-21 15:09:18 -0400 (Mon, 21 Apr 2025) EndedAt: 2025-04-21 15:09:24 -0400 (Mon, 21 Apr 2025) EllapsedTime: 6.5 seconds RetCode: 0 Status: OK