Package: CytoGLMM Version: 1.16.1 Command: /home/biocbuild/R/R/bin/R CMD INSTALL CytoGLMM StartedAt: 2025-10-13 20:22:05 -0000 (Mon, 13 Oct 2025) EndedAt: 2025-10-13 20:22:25 -0000 (Mon, 13 Oct 2025) EllapsedTime: 19.3 seconds RetCode: 0 Status: OK