Package: CytoGLMM Version: 1.16.1 Command: /home/biocbuild/R/R/bin/R CMD build --keep-empty-dirs --no-resave-data CytoGLMM StartedAt: 2025-10-14 00:02:12 -0000 (Tue, 14 Oct 2025) EndedAt: 2025-10-14 00:04:52 -0000 (Tue, 14 Oct 2025) EllapsedTime: 159.1 seconds RetCode: 0 Status: OK PackageFile: CytoGLMM_1.16.1.tar.gz PackageFileSize: 360.8 KiB