Package: CyTOFpower Version: 1.14.0 Command: /home/biocbuild/R/R/bin/R CMD build --keep-empty-dirs --no-resave-data CyTOFpower StartedAt: 2025-10-14 00:01:51 -0000 (Tue, 14 Oct 2025) EndedAt: 2025-10-14 00:02:02 -0000 (Tue, 14 Oct 2025) EllapsedTime: 11.0 seconds RetCode: 0 Status: OK PackageFile: CyTOFpower_1.14.0.tar.gz PackageFileSize: 338.7 KiB