Package: CyTOFpower Version: 1.14.0 Command: /Library/Frameworks/R.framework/Resources/bin/R CMD INSTALL CyTOFpower StartedAt: 2025-10-13 16:48:29 -0400 (Mon, 13 Oct 2025) EndedAt: 2025-10-13 16:48:36 -0400 (Mon, 13 Oct 2025) EllapsedTime: 6.9 seconds RetCode: 0 Status: OK