Package: CyTOFpower Version: 1.14.0 Command: /Library/Frameworks/R.framework/Resources/bin/R CMD build --keep-empty-dirs --no-resave-data CyTOFpower StartedAt: 2025-10-13 22:25:14 -0400 (Mon, 13 Oct 2025) EndedAt: 2025-10-13 22:25:24 -0400 (Mon, 13 Oct 2025) EllapsedTime: 10.2 seconds RetCode: 0 Status: OK PackageFile: CyTOFpower_1.14.0.tar.gz PackageFileSize: 312.2 KiB