Package: CuratedAtlasQueryR Version: 1.6.0 Command: rm -rf CuratedAtlasQueryR.buildbin-libdir && mkdir CuratedAtlasQueryR.buildbin-libdir && /Users/biocbuild/BBS/utils/build-universal.sh CuratedAtlasQueryR_1.6.0.tar.gz /Library/Frameworks/R.framework/Resources/bin/R CuratedAtlasQueryR.buildbin-libdir StartedAt: 2025-10-14 13:10:07 -0400 (Tue, 14 Oct 2025) EndedAt: 2025-10-14 13:12:05 -0400 (Tue, 14 Oct 2025) EllapsedTime: 117.8 seconds RetCode: 0 Status: OK PackageFile: CuratedAtlasQueryR_1.6.0.tgz PackageFileSize: 1014 KiB