Package: CuratedAtlasQueryR Version: 1.6.0 Command: /home/biocbuild/R/R/bin/R CMD build --keep-empty-dirs --no-resave-data CuratedAtlasQueryR StartedAt: 2025-10-14 00:00:09 -0000 (Tue, 14 Oct 2025) EndedAt: 2025-10-14 00:40:10 -0000 (Tue, 14 Oct 2025) EllapsedTime: 2400.8 seconds RetCode: None Status: TIMEOUT PackageFile: None PackageFileSize: NA