Package: CrispRVariants Version: 1.36.0 Command: /home/biocbuild/R/R/bin/R CMD INSTALL CrispRVariants StartedAt: 2025-10-13 20:39:27 -0000 (Mon, 13 Oct 2025) EndedAt: 2025-10-13 20:40:28 -0000 (Mon, 13 Oct 2025) EllapsedTime: 61.5 seconds RetCode: 0 Status: OK