Package: CrispRVariants Version: 1.36.0 Command: /home/biocbuild/R/R/bin/R CMD build --keep-empty-dirs --no-resave-data CrispRVariants StartedAt: 2025-10-13 23:56:22 -0000 (Mon, 13 Oct 2025) EndedAt: 2025-10-13 23:59:32 -0000 (Mon, 13 Oct 2025) EllapsedTime: 190.0 seconds RetCode: 0 Status: OK PackageFile: CrispRVariants_1.36.0.tar.gz PackageFileSize: 3.378 MiB