Package: CoverageView Version: 1.46.0 Command: /home/biocbuild/bbs-3.21-bioc/R/bin/R CMD INSTALL CoverageView StartedAt: 2025-10-15 15:26:37 -0400 (Wed, 15 Oct 2025) EndedAt: 2025-10-15 15:27:07 -0400 (Wed, 15 Oct 2025) EllapsedTime: 29.8 seconds RetCode: 0 Status: OK