Package: CoverageView Version: 1.46.0 Command: /Library/Frameworks/R.framework/Resources/bin/R CMD INSTALL CoverageView StartedAt: 2025-10-13 15:50:42 -0400 (Mon, 13 Oct 2025) EndedAt: 2025-10-13 15:51:47 -0400 (Mon, 13 Oct 2025) EllapsedTime: 65.0 seconds RetCode: 0 Status: OK