Package: CoverageView Version: 1.46.0 Command: /Library/Frameworks/R.framework/Resources/bin/R CMD build --keep-empty-dirs --no-resave-data CoverageView StartedAt: 2025-10-13 18:10:12 -0400 (Mon, 13 Oct 2025) EndedAt: 2025-10-13 18:12:15 -0400 (Mon, 13 Oct 2025) EllapsedTime: 123.0 seconds RetCode: 0 Status: OK PackageFile: CoverageView_1.46.0.tar.gz PackageFileSize: 2.553 MiB