Package: CoverageView Version: 1.46.0 Command: /home/biocbuild/R/R/bin/R CMD INSTALL CoverageView StartedAt: 2025-10-13 20:41:48 -0000 (Mon, 13 Oct 2025) EndedAt: 2025-10-13 20:42:33 -0000 (Mon, 13 Oct 2025) EllapsedTime: 44.9 seconds RetCode: 0 Status: OK