Package: CoverageView Version: 1.46.0 Command: /home/biocbuild/R/R/bin/R CMD build --keep-empty-dirs --no-resave-data CoverageView StartedAt: 2025-10-13 23:53:38 -0000 (Mon, 13 Oct 2025) EndedAt: 2025-10-13 23:54:44 -0000 (Mon, 13 Oct 2025) EllapsedTime: 66.0 seconds RetCode: 0 Status: OK PackageFile: CoverageView_1.46.0.tar.gz PackageFileSize: 2.573 MiB