Package: CoverageView Version: 1.46.0 Command: /Library/Frameworks/R.framework/Resources/bin/R CMD INSTALL CoverageView StartedAt: 2025-10-13 16:44:10 -0400 (Mon, 13 Oct 2025) EndedAt: 2025-10-13 16:44:46 -0400 (Mon, 13 Oct 2025) EllapsedTime: 35.8 seconds RetCode: 0 Status: OK