Package: CoverageView Version: 1.46.0 Command: /Library/Frameworks/R.framework/Resources/bin/R CMD build --keep-empty-dirs --no-resave-data CoverageView StartedAt: 2025-10-13 22:03:45 -0400 (Mon, 13 Oct 2025) EndedAt: 2025-10-13 22:04:54 -0400 (Mon, 13 Oct 2025) EllapsedTime: 69.9 seconds RetCode: 0 Status: OK PackageFile: CoverageView_1.46.0.tar.gz PackageFileSize: 2.554 MiB