Package: CoreGx Version: 2.12.0 Command: /home/biocbuild/bbs-3.21-bioc/R/bin/R CMD INSTALL CoreGx StartedAt: 2025-10-15 15:22:40 -0400 (Wed, 15 Oct 2025) EndedAt: 2025-10-15 15:23:17 -0400 (Wed, 15 Oct 2025) EllapsedTime: 37.4 seconds RetCode: 0 Status: OK