Package: CoreGx Version: 2.12.0 Command: /home/biocbuild/bbs-3.21-bioc/R/bin/R CMD build --keep-empty-dirs --no-resave-data CoreGx StartedAt: 2025-10-15 16:54:52 -0400 (Wed, 15 Oct 2025) EndedAt: 2025-10-15 16:55:49 -0400 (Wed, 15 Oct 2025) EllapsedTime: 57.0 seconds RetCode: 0 Status: OK PackageFile: CoreGx_2.12.0.tar.gz PackageFileSize: 1.364 MiB