Package: CoreGx Version: 2.12.0 Command: /home/biocbuild/R/R/bin/R CMD INSTALL CoreGx StartedAt: 2025-10-13 20:36:32 -0000 (Mon, 13 Oct 2025) EndedAt: 2025-10-13 20:37:27 -0000 (Mon, 13 Oct 2025) EllapsedTime: 54.9 seconds RetCode: 0 Status: OK