Package: CoreGx Version: 2.12.0 Command: /home/biocbuild/R/R/bin/R CMD build --keep-empty-dirs --no-resave-data CoreGx StartedAt: 2025-10-13 23:51:46 -0000 (Mon, 13 Oct 2025) EndedAt: 2025-10-13 23:53:07 -0000 (Mon, 13 Oct 2025) EllapsedTime: 81.0 seconds RetCode: 0 Status: OK PackageFile: CoreGx_2.12.0.tar.gz PackageFileSize: 1.387 MiB