Package: CopyNumberPlots Version: 1.24.0 Command: /home/biocbuild/bbs-3.21-bioc/R/bin/R CMD INSTALL CopyNumberPlots StartedAt: 2025-10-15 15:43:41 -0400 (Wed, 15 Oct 2025) EndedAt: 2025-10-15 15:44:28 -0400 (Wed, 15 Oct 2025) EllapsedTime: 47.0 seconds RetCode: 0 Status: OK