Package: CopyNumberPlots Version: 1.24.0 Command: /home/biocbuild/R/R/bin/R CMD INSTALL CopyNumberPlots StartedAt: 2025-10-13 21:00:35 -0000 (Mon, 13 Oct 2025) EndedAt: 2025-10-13 21:01:40 -0000 (Mon, 13 Oct 2025) EllapsedTime: 65.6 seconds RetCode: 0 Status: OK