Package: CopyNumberPlots Version: 1.24.0 Command: /home/biocbuild/R/R/bin/R CMD build --keep-empty-dirs --no-resave-data CopyNumberPlots StartedAt: 2025-10-13 23:51:24 -0000 (Mon, 13 Oct 2025) EndedAt: 2025-10-13 23:53:38 -0000 (Mon, 13 Oct 2025) EllapsedTime: 134.0 seconds RetCode: 0 Status: OK PackageFile: CopyNumberPlots_1.24.0.tar.gz PackageFileSize: 1.757 MiB