Package: ConsensusClusterPlus Version: 1.72.0 Command: /home/biocbuild/bbs-3.21-bioc/R/bin/R CMD build --keep-empty-dirs --no-resave-data ConsensusClusterPlus StartedAt: 2025-10-15 16:53:34 -0400 (Wed, 15 Oct 2025) EndedAt: 2025-10-15 16:53:44 -0400 (Wed, 15 Oct 2025) EllapsedTime: 10.0 seconds RetCode: 0 Status: OK PackageFile: ConsensusClusterPlus_1.72.0.tar.gz PackageFileSize: 408.3 KiB