Package: ConsensusClusterPlus Version: 1.72.0 Command: /home/biocbuild/R/R/bin/R CMD INSTALL ConsensusClusterPlus StartedAt: 2025-10-13 20:24:38 -0000 (Mon, 13 Oct 2025) EndedAt: 2025-10-13 20:24:42 -0000 (Mon, 13 Oct 2025) EllapsedTime: 3.8 seconds RetCode: 0 Status: OK