Package: ConsensusClusterPlus Version: 1.72.0 Command: /Library/Frameworks/R.framework/Resources/bin/R CMD INSTALL ConsensusClusterPlus StartedAt: 2025-10-13 15:36:28 -0400 (Mon, 13 Oct 2025) EndedAt: 2025-10-13 15:36:32 -0400 (Mon, 13 Oct 2025) EllapsedTime: 4.3 seconds RetCode: 0 Status: OK