Package: CompoundDb Version: 1.12.1 Command: /home/biocbuild/bbs-3.21-bioc/R/bin/R CMD INSTALL CompoundDb StartedAt: 2025-10-15 15:33:50 -0400 (Wed, 15 Oct 2025) EndedAt: 2025-10-15 15:34:10 -0400 (Wed, 15 Oct 2025) EllapsedTime: 20.7 seconds RetCode: 0 Status: OK