Package: CompoundDb Version: 1.12.1 Command: /home/biocbuild/R/R/bin/R CMD INSTALL CompoundDb StartedAt: 2025-10-13 20:49:57 -0000 (Mon, 13 Oct 2025) EndedAt: 2025-10-13 20:50:27 -0000 (Mon, 13 Oct 2025) EllapsedTime: 30.4 seconds RetCode: 0 Status: OK