Package: CompoundDb Version: 1.12.1 Command: /Library/Frameworks/R.framework/Resources/bin/R CMD INSTALL CompoundDb StartedAt: 2025-10-13 17:01:32 -0400 (Mon, 13 Oct 2025) EndedAt: 2025-10-13 17:01:57 -0400 (Mon, 13 Oct 2025) EllapsedTime: 25.0 seconds RetCode: 0 Status: OK