Package: ComplexHeatmap Version: 2.24.1 Command: /home/biocbuild/R/R/bin/R CMD INSTALL ComplexHeatmap StartedAt: 2025-10-13 20:26:33 -0000 (Mon, 13 Oct 2025) EndedAt: 2025-10-13 20:27:04 -0000 (Mon, 13 Oct 2025) EllapsedTime: 30.9 seconds RetCode: 0 Status: OK