Package: ComplexHeatmap Version: 2.24.1 Command: /home/biocbuild/R/R/bin/R CMD build --keep-empty-dirs --no-resave-data ComplexHeatmap StartedAt: 2025-10-13 23:48:42 -0000 (Mon, 13 Oct 2025) EndedAt: 2025-10-13 23:49:27 -0000 (Mon, 13 Oct 2025) EllapsedTime: 45.0 seconds RetCode: 0 Status: OK PackageFile: ComplexHeatmap_2.24.1.tar.gz PackageFileSize: 1.391 MiB