Package: ComplexHeatmap Version: 2.24.1 Command: /Library/Frameworks/R.framework/Resources/bin/R CMD INSTALL ComplexHeatmap StartedAt: 2025-10-13 15:40:09 -0400 (Mon, 13 Oct 2025) EndedAt: 2025-10-13 15:40:34 -0400 (Mon, 13 Oct 2025) EllapsedTime: 24.7 seconds RetCode: 0 Status: OK