Package: ComplexHeatmap Version: 2.24.1 Command: /Library/Frameworks/R.framework/Resources/bin/R CMD build --keep-empty-dirs --no-resave-data ComplexHeatmap StartedAt: 2025-10-13 21:48:40 -0400 (Mon, 13 Oct 2025) EndedAt: 2025-10-13 21:49:17 -0400 (Mon, 13 Oct 2025) EllapsedTime: 37.6 seconds RetCode: 0 Status: OK PackageFile: ComplexHeatmap_2.24.1.tar.gz PackageFileSize: 1.412 MiB