Package: ComPrAn Version: 1.16.0 Command: /Library/Frameworks/R.framework/Resources/bin/R CMD INSTALL ComPrAn StartedAt: 2025-10-13 15:27:50 -0400 (Mon, 13 Oct 2025) EndedAt: 2025-10-13 15:28:01 -0400 (Mon, 13 Oct 2025) EllapsedTime: 11.6 seconds RetCode: 0 Status: OK