Package: ClusterSignificance Version: 1.36.0 Command: E:\biocbuild\bbs-3.21-bioc\R\bin\R.exe CMD INSTALL ClusterSignificance StartedAt: 2025-08-14 15:25:08 -0400 (Thu, 14 Aug 2025) EndedAt: 2025-08-14 15:26:13 -0400 (Thu, 14 Aug 2025) EllapsedTime: 64.8 seconds RetCode: 0 Status: OK