Package: ClusterSignificance Version: 1.36.0 Command: chmod a+r ClusterSignificance -R && E:\biocbuild\bbs-3.21-bioc\R\bin\R.exe CMD build --keep-empty-dirs --no-resave-data ClusterSignificance StartedAt: 2025-08-14 18:07:16 -0400 (Thu, 14 Aug 2025) EndedAt: 2025-08-14 18:08:51 -0400 (Thu, 14 Aug 2025) EllapsedTime: 94.4 seconds RetCode: 0 Status: OK PackageFile: ClusterSignificance_1.36.0.tar.gz PackageFileSize: 1.325 MiB