Package: ClusterSignificance Version: 1.36.0 Command: /home/biocbuild/R/R/bin/R CMD INSTALL ClusterSignificance StartedAt: 2025-10-13 20:16:27 -0000 (Mon, 13 Oct 2025) EndedAt: 2025-10-13 20:17:01 -0000 (Mon, 13 Oct 2025) EllapsedTime: 33.8 seconds RetCode: 0 Status: OK