Package: ClusterSignificance Version: 1.36.0 Command: /home/biocbuild/R/R/bin/R CMD build --keep-empty-dirs --no-resave-data ClusterSignificance StartedAt: 2025-10-13 23:41:16 -0000 (Mon, 13 Oct 2025) EndedAt: 2025-10-13 23:42:48 -0000 (Mon, 13 Oct 2025) EllapsedTime: 92.0 seconds RetCode: 0 Status: OK PackageFile: ClusterSignificance_1.36.0.tar.gz PackageFileSize: 1.817 MiB