Package: ClusterSignificance Version: 1.36.0 Command: /Library/Frameworks/R.framework/Resources/bin/R CMD build --keep-empty-dirs --no-resave-data ClusterSignificance StartedAt: 2025-10-13 21:30:20 -0400 (Mon, 13 Oct 2025) EndedAt: 2025-10-13 21:31:24 -0400 (Mon, 13 Oct 2025) EllapsedTime: 64.1 seconds RetCode: 0 Status: OK PackageFile: ClusterSignificance_1.36.0.tar.gz PackageFileSize: 2.113 MiB