Package: ClusterJudge Version: 1.30.0 Command: /home/biocbuild/bbs-3.21-bioc/R/bin/R CMD INSTALL ClusterJudge StartedAt: 2025-10-15 15:10:48 -0400 (Wed, 15 Oct 2025) EndedAt: 2025-10-15 15:10:54 -0400 (Wed, 15 Oct 2025) EllapsedTime: 5.7 seconds RetCode: 0 Status: OK