Package: ClusterJudge Version: 1.30.0 Command: /home/biocbuild/bbs-3.21-bioc/R/bin/R CMD build --keep-empty-dirs --no-resave-data ClusterJudge StartedAt: 2025-10-15 16:47:57 -0400 (Wed, 15 Oct 2025) EndedAt: 2025-10-15 16:48:41 -0400 (Wed, 15 Oct 2025) EllapsedTime: 44.1 seconds RetCode: 0 Status: OK PackageFile: ClusterJudge_1.30.0.tar.gz PackageFileSize: 941.1 KiB